BEGIN:VCALENDAR
VERSION:2.0
METHOD:PUBLISH
CALSCALE:GREGORIAN
BEGIN:VEVENT
UID:39f7ddd3-c9b4-47d3-a6b0-b0c50ba26a11
SEQUENCE:0
CLASS:PUBLIC
PRIORITY:5
DTSTAMP:20260421T165357Z
CREATED:20260421T165357Z
DTSTART:20251020T100000Z
SUMMARY:Cérémonie Religieuse de André NEBOUT
LOCATION:EGLISE DE FONGRAVE , 47260 , FONGRAVE , France
BEGIN:VALARM
TRIGGER:-PT30M
ACTION:DISPLAY
DESCRIPTION:Reminder
END:VALARM
END:VEVENT
END:VCALENDAR
