BEGIN:VCALENDAR
VERSION:2.0
METHOD:PUBLISH
CALSCALE:GREGORIAN
BEGIN:VEVENT
UID:ef31c7e6-d3cd-4503-b3f9-388328494283
SEQUENCE:0
CLASS:PUBLIC
PRIORITY:5
DTSTAMP:20260421T193011Z
CREATED:20260421T193011Z
DTSTART:20251020T110000Z
SUMMARY:Inhumation de André NEBOUT
LOCATION:Cimetière Fongrave , 47260 , FONGRAVE , France
BEGIN:VALARM
TRIGGER:-PT30M
ACTION:DISPLAY
DESCRIPTION:Reminder
END:VALARM
END:VEVENT
END:VCALENDAR
