BEGIN:VCALENDAR
VERSION:2.0
METHOD:PUBLISH
CALSCALE:GREGORIAN
BEGIN:VEVENT
UID:3a2a26a8-a78e-4b73-8f5f-504545483d14
SEQUENCE:0
CLASS:PUBLIC
PRIORITY:5
DTSTAMP:20260421T165314Z
CREATED:20260421T165314Z
DTSTART:20251015T160000Z
SUMMARY:Présentation en salon de JACQUELINE BUREL
LOCATION:FUNÉRARIUM LABORDE VILLENEUVE-SUR-LOT 49 Avenue Jacques Bordeneuve , 47300 , VILLENEUVE-SUR-LOT , France
BEGIN:VALARM
TRIGGER:-PT30M
ACTION:DISPLAY
DESCRIPTION:Reminder
END:VALARM
END:VEVENT
END:VCALENDAR
