BEGIN:VCALENDAR
VERSION:2.0
METHOD:PUBLISH
CALSCALE:GREGORIAN
BEGIN:VEVENT
UID:fd2242e4-d17e-4707-8628-be3305c96f40
SEQUENCE:0
CLASS:PUBLIC
PRIORITY:5
DTSTAMP:20260421T193103Z
CREATED:20260421T193103Z
DTSTART:20251017T110000Z
SUMMARY:Inhumation de JACQUELINE BUREL
LOCATION:Cimetière Villeneuve St Etienne , 47300 , VILLENEUVE-SUR-LOT , France
BEGIN:VALARM
TRIGGER:-PT30M
ACTION:DISPLAY
DESCRIPTION:Reminder
END:VALARM
END:VEVENT
END:VCALENDAR
