BEGIN:VCALENDAR
VERSION:2.0
METHOD:PUBLISH
CALSCALE:GREGORIAN
BEGIN:VEVENT
UID:b7f804f5-e7c2-4aa6-8407-d649bb56410a
SEQUENCE:0
CLASS:PUBLIC
PRIORITY:5
DTSTAMP:20260424T115945Z
CREATED:20260424T115945Z
DTSTART:20251021T133000Z
SUMMARY:Crémation de Francis SUEUR
LOCATION:rue de la chapelle, Crématorium d'ABBEVILLE, 80100, ABBEVILLE
BEGIN:VALARM
TRIGGER:-PT30M
ACTION:DISPLAY
DESCRIPTION:Reminder
END:VALARM
END:VEVENT
END:VCALENDAR
