BEGIN:VCALENDAR
VERSION:2.0
METHOD:PUBLISH
CALSCALE:GREGORIAN
BEGIN:VEVENT
UID:7386fbc8-c5b3-428c-853b-60f266b4df3e
SEQUENCE:0
CLASS:PUBLIC
PRIORITY:5
DTSTAMP:20260421T210145Z
CREATED:20260421T210145Z
DTSTART:20251017T180000Z
SUMMARY:Présentation en salon de Gilles, René CORI
LOCATION:FUNÉRARIUM LABORDE VILLENEUVE-SUR-LOT 49 Avenue Jacques Bordeneuve , 47300 , VILLENEUVE-SUR-LOT , France
BEGIN:VALARM
TRIGGER:-PT30M
ACTION:DISPLAY
DESCRIPTION:Reminder
END:VALARM
END:VEVENT
END:VCALENDAR
