BEGIN:VCALENDAR
VERSION:2.0
METHOD:PUBLISH
CALSCALE:GREGORIAN
BEGIN:VEVENT
UID:55e7b04f-dcb8-4907-afb7-185ce244d21d
SEQUENCE:0
CLASS:PUBLIC
PRIORITY:5
DTSTAMP:20260421T210150Z
CREATED:20260421T210150Z
DTSTART:20251021T113000Z
SUMMARY:Cérémonie Civile de Gilles, René CORI
LOCATION:CRÉMATORIUM DU GRAND VILLENEUVOIS 1173, Avenue de Bordeaux , 47110 , ALLEZ-ET-CAZENEUVE , France
BEGIN:VALARM
TRIGGER:-PT30M
ACTION:DISPLAY
DESCRIPTION:Reminder
END:VALARM
END:VEVENT
END:VCALENDAR
