BEGIN:VCALENDAR
VERSION:2.0
METHOD:PUBLISH
CALSCALE:GREGORIAN
BEGIN:VEVENT
UID:6033a2ae-39cd-475d-b9cf-4ef8ea015a9f
SEQUENCE:0
CLASS:PUBLIC
PRIORITY:5
DTSTAMP:20260426T031923Z
CREATED:20260426T031923Z
DTSTART:20251017T140000Z
SUMMARY:Présentation en salon de Albert FURTEAU
LOCATION:FUNÉRARIUM LABORDE VILLENEUVE-SUR-LOT 49 Avenue Jacques Bordeneuve , 47300 , VILLENEUVE-SUR-LOT , France
BEGIN:VALARM
TRIGGER:-PT30M
ACTION:DISPLAY
DESCRIPTION:Reminder
END:VALARM
END:VEVENT
END:VCALENDAR
