BEGIN:VCALENDAR
VERSION:2.0
METHOD:PUBLISH
CALSCALE:GREGORIAN
BEGIN:VEVENT
UID:799fa7e8-5b50-4ad6-aabd-dfb05d26a4db
SEQUENCE:0
CLASS:PUBLIC
PRIORITY:5
DTSTAMP:20260424T061451Z
CREATED:20260424T061451Z
DTSTART:20251021T133000Z
SUMMARY:Cérémonie Civile de Albert FURTEAU
LOCATION:CRÉMATORIUM DU GRAND VILLENEUVOIS 1173, Avenue de Bordeaux , 47110 , ALLEZ-ET-CAZENEUVE , France
BEGIN:VALARM
TRIGGER:-PT30M
ACTION:DISPLAY
DESCRIPTION:Reminder
END:VALARM
END:VEVENT
END:VCALENDAR
