BEGIN:VCALENDAR
VERSION:2.0
METHOD:PUBLISH
CALSCALE:GREGORIAN
BEGIN:VEVENT
UID:19fe054a-e3da-4b79-ac65-1d14d31dda85
SEQUENCE:0
CLASS:PUBLIC
PRIORITY:5
DTSTAMP:20260423T115102Z
CREATED:20260423T115102Z
DTSTART:20251021T140000Z
SUMMARY:Crémation de Albert FURTEAU
LOCATION:CRÉMATORIUM DU GRAND VILLENEUVOIS 1173, Avenue de Bordeaux , 47110 , ALLEZ-ET-CAZENEUVE , France
BEGIN:VALARM
TRIGGER:-PT30M
ACTION:DISPLAY
DESCRIPTION:Reminder
END:VALARM
END:VEVENT
END:VCALENDAR
