BEGIN:VCALENDAR
VERSION:2.0
METHOD:PUBLISH
CALSCALE:GREGORIAN
BEGIN:VEVENT
UID:061b19ef-8d21-4425-9efa-02bbda9cdc9e
SEQUENCE:0
CLASS:PUBLIC
PRIORITY:5
DTSTAMP:20260426T022146Z
CREATED:20260426T022146Z
DTSTART:20251018T153000Z
SUMMARY:Présentation en salon de Sylvie SART
LOCATION:ESPACE FUNÉRAIRE DU LAURAGUAIS  3 avenue de la Malepere , 11150 , BRAM , France
BEGIN:VALARM
TRIGGER:-PT30M
ACTION:DISPLAY
DESCRIPTION:Reminder
END:VALARM
END:VEVENT
END:VCALENDAR
