BEGIN:VCALENDAR
VERSION:2.0
METHOD:PUBLISH
CALSCALE:GREGORIAN
BEGIN:VEVENT
UID:f8a86131-ec57-4c20-9b8b-1afbac6902e1
SEQUENCE:0
CLASS:PUBLIC
PRIORITY:5
DTSTAMP:20260424T014457Z
CREATED:20260424T014457Z
DTSTART:20251017T000000Z
SUMMARY:Présentation en salon de Andrée BRISSOT
LOCATION:Ets Laborde , 47110 , LE TEMPLE-SUR-LOT , France
BEGIN:VALARM
TRIGGER:-PT30M
ACTION:DISPLAY
DESCRIPTION:Reminder
END:VALARM
END:VEVENT
END:VCALENDAR
