BEGIN:VCALENDAR
VERSION:2.0
METHOD:PUBLISH
CALSCALE:GREGORIAN
BEGIN:VEVENT
UID:dbf8eea0-f995-4408-97b0-2e22d1b31c0d
SEQUENCE:0
CLASS:PUBLIC
PRIORITY:5
DTSTAMP:20260423T213136Z
CREATED:20260423T213136Z
DTSTART:20251023T100000Z
SUMMARY:Cérémonie Religieuse de Claire Georgette VERNET
LOCATION:EGLISE DE CANCON , 47290 , CANCON , France
BEGIN:VALARM
TRIGGER:-PT30M
ACTION:DISPLAY
DESCRIPTION:Reminder
END:VALARM
END:VEVENT
END:VCALENDAR
