BEGIN:VCALENDAR
VERSION:2.0
METHOD:PUBLISH
CALSCALE:GREGORIAN
BEGIN:VEVENT
UID:7a86f2dd-dcf4-4538-a7c5-a9392b1bcf0c
SEQUENCE:0
CLASS:PUBLIC
PRIORITY:5
DTSTAMP:20260425T165407Z
CREATED:20260425T165407Z
DTSTART:20251020T111500Z
SUMMARY:Présentation en salon de Jeanne BOURNOL
LOCATION:Castillonnès funéraire , 47330 , CASTILLONNES , France
BEGIN:VALARM
TRIGGER:-PT30M
ACTION:DISPLAY
DESCRIPTION:Reminder
END:VALARM
END:VEVENT
END:VCALENDAR
