BEGIN:VCALENDAR
VERSION:2.0
METHOD:PUBLISH
CALSCALE:GREGORIAN
BEGIN:VEVENT
UID:90c9745f-615c-4d37-970e-78f53d8d0fc8
SEQUENCE:0
CLASS:PUBLIC
PRIORITY:5
DTSTAMP:20260423T183726Z
CREATED:20260423T183726Z
DTSTART:20251023T110000Z
SUMMARY:Inhumation de Jeanne BOURNOL
LOCATION:Cimetière Lougratte , 47290 , LOUGRATTE , France
BEGIN:VALARM
TRIGGER:-PT30M
ACTION:DISPLAY
DESCRIPTION:Reminder
END:VALARM
END:VEVENT
END:VCALENDAR
