BEGIN:VCALENDAR
VERSION:2.0
METHOD:PUBLISH
CALSCALE:GREGORIAN
BEGIN:VEVENT
UID:4bb60ea4-8e66-4821-9c2c-9ee6df16fa4d
SEQUENCE:0
CLASS:PUBLIC
PRIORITY:5
DTSTAMP:20260421T210210Z
CREATED:20260421T210210Z
DTSTART:20251128T160000Z
DTEND:20251130T122700Z
SUMMARY:Inhumation de Philippe DUBAELE
LOCATION:route d'Arras, 59554, Raillencourt-Ste-Olle
BEGIN:VALARM
TRIGGER:-PT30M
ACTION:DISPLAY
DESCRIPTION:Reminder
END:VALARM
END:VEVENT
END:VCALENDAR
