BEGIN:VCALENDAR
VERSION:2.0
METHOD:PUBLISH
CALSCALE:GREGORIAN
BEGIN:VEVENT
UID:1f673182-7cc1-48a1-8d48-6489149e52dc
SEQUENCE:0
CLASS:PUBLIC
PRIORITY:5
DTSTAMP:20260421T165431Z
CREATED:20260421T165431Z
DTSTART:20260421T143000Z
SUMMARY:Cérémonie Religieuse de Nella SALAMERO
LOCATION:CHAPELLE GAILLARD, 47000, AGEN, France
BEGIN:VALARM
TRIGGER:-PT30M
ACTION:DISPLAY
DESCRIPTION:Reminder
END:VALARM
END:VEVENT
END:VCALENDAR
