BEGIN:VCALENDAR
VERSION:2.0
METHOD:PUBLISH
CALSCALE:GREGORIAN
BEGIN:VEVENT
UID:4f9cef90-41b9-48ef-92fa-a37014e2c2c6
SEQUENCE:0
CLASS:PUBLIC
PRIORITY:5
DTSTAMP:20260421T165427Z
CREATED:20260421T165427Z
DTSTART:20260421T153000Z
SUMMARY:Inhumation de Nella SALAMERO
LOCATION:CIMETIERE DE GAILLARD Avenue de Gaillard, 47000, AGEN, France
BEGIN:VALARM
TRIGGER:-PT30M
ACTION:DISPLAY
DESCRIPTION:Reminder
END:VALARM
END:VEVENT
END:VCALENDAR
