BEGIN:VCALENDAR
VERSION:2.0
METHOD:PUBLISH
CALSCALE:GREGORIAN
BEGIN:VEVENT
UID:44355012-833a-4688-9741-f596104d4322
SEQUENCE:0
CLASS:PUBLIC
PRIORITY:5
DTSTAMP:20260423T084210Z
CREATED:20260423T084210Z
DTSTART:20260413T150000Z
SUMMARY:Cérémonie Religieuse de Gabrielle ACRONTINI
LOCATION:ÉGLISE DE SÉMÉZIES, 32450, SEMEZIES-CACHAN, France
BEGIN:VALARM
TRIGGER:-PT30M
ACTION:DISPLAY
DESCRIPTION:Reminder
END:VALARM
END:VEVENT
END:VCALENDAR
