BEGIN:VCALENDAR
VERSION:2.0
METHOD:PUBLISH
CALSCALE:GREGORIAN
BEGIN:VEVENT
UID:fc120d73-925e-4f43-860e-992479aff1b6
SEQUENCE:0
CLASS:PUBLIC
PRIORITY:5
DTSTAMP:20260423T084209Z
CREATED:20260423T084209Z
DTSTART:20260413T154500Z
SUMMARY:Inhumation de Gabrielle ACRONTINI
LOCATION:CIMETIÈRE SÉMÉZIES, 32450, SEMEZIES-CACHAN, France
BEGIN:VALARM
TRIGGER:-PT30M
ACTION:DISPLAY
DESCRIPTION:Reminder
END:VALARM
END:VEVENT
END:VCALENDAR
