BEGIN:VCALENDAR
VERSION:2.0
METHOD:PUBLISH
CALSCALE:GREGORIAN
BEGIN:VEVENT
UID:86477db4-bd06-417c-9a70-302dfecfcfef
SEQUENCE:0
CLASS:PUBLIC
PRIORITY:5
DTSTAMP:20260422T134112Z
CREATED:20260422T134112Z
DTSTART:20260422T103000Z
SUMMARY:CEREMONIE CIVILE de Marie-Dominique De Labrusse
LOCATION:Complexe funéraire de Grammont, 34000, MONTPELLIER
BEGIN:VALARM
TRIGGER:-PT30M
ACTION:DISPLAY
DESCRIPTION:Reminder
END:VALARM
END:VEVENT
END:VCALENDAR
