BEGIN:VCALENDAR
VERSION:2.0
METHOD:PUBLISH
CALSCALE:GREGORIAN
BEGIN:VEVENT
UID:4c39bcde-3840-4671-96f3-ced7258c469c
SEQUENCE:0
CLASS:PUBLIC
PRIORITY:5
DTSTAMP:20260422T134110Z
CREATED:20260422T134110Z
DTSTART:20260422T113000Z
SUMMARY:CREMATION de Marie-Dominique De Labrusse
LOCATION:Complexe funéraire de Grammont, 34000, MONTPELLIER
BEGIN:VALARM
TRIGGER:-PT30M
ACTION:DISPLAY
DESCRIPTION:Reminder
END:VALARM
END:VEVENT
END:VCALENDAR
