BEGIN:VCALENDAR
VERSION:2.0
METHOD:PUBLISH
CALSCALE:GREGORIAN
BEGIN:VEVENT
UID:c4277aef-9d45-44f9-966f-b5764b2fc686
SEQUENCE:0
CLASS:PUBLIC
PRIORITY:5
DTSTAMP:20260422T134109Z
CREATED:20260422T134109Z
DTSTART:20260416T140000Z
DTEND:20260422T140000Z
SUMMARY:VISITES CHAMBRE FUNERAIRE de Marie-Dominique De Labrusse
LOCATION:586 avenue de l'europe, 34170, CASTELNAU LE LEZ
BEGIN:VALARM
TRIGGER:-PT30M
ACTION:DISPLAY
DESCRIPTION:Reminder
END:VALARM
END:VEVENT
END:VCALENDAR
