BEGIN:VCALENDAR
VERSION:2.0
METHOD:PUBLISH
CALSCALE:GREGORIAN
BEGIN:VEVENT
UID:575c72ce-cea8-4236-bd74-fa0876605519
SEQUENCE:0
CLASS:PUBLIC
PRIORITY:5
DTSTAMP:20260422T134111Z
CREATED:20260422T134111Z
DTSTART:20260422T093000Z
SUMMARY:FERMETURE DU CERCUEIL de Marie-Dominique De Labrusse
LOCATION:586 avenue de l'europe, 34170, CASTELNAU LE LEZ
BEGIN:VALARM
TRIGGER:-PT30M
ACTION:DISPLAY
DESCRIPTION:Reminder
END:VALARM
END:VEVENT
END:VCALENDAR
