BEGIN:VCALENDAR
VERSION:2.0
METHOD:PUBLISH
CALSCALE:GREGORIAN
BEGIN:VEVENT
UID:66a001d0-6639-4acb-aa15-46f0714bd21d
SEQUENCE:0
CLASS:PUBLIC
PRIORITY:5
DTSTAMP:20260421T165426Z
CREATED:20260421T165426Z
DTSTART:20260420T143000Z
SUMMARY:Service religieux de Alain ELISEE
LOCATION:Eglise de LE CROTOY, 80550, LE CROTOY
BEGIN:VALARM
TRIGGER:-PT30M
ACTION:DISPLAY
DESCRIPTION:Reminder
END:VALARM
END:VEVENT
END:VCALENDAR
