BEGIN:VCALENDAR
VERSION:2.0
METHOD:PUBLISH
CALSCALE:GREGORIAN
BEGIN:VEVENT
UID:0993b884-5c25-4a16-9969-52f9c434bc0e
SEQUENCE:0
CLASS:PUBLIC
PRIORITY:5
DTSTAMP:20260421T165430Z
CREATED:20260421T165430Z
DTSTART:20260420T153000Z
SUMMARY:Inhumation de Alain ELISEE
LOCATION:Cimetière de LE CROTOY, 80550, LE CROTOY
BEGIN:VALARM
TRIGGER:-PT30M
ACTION:DISPLAY
DESCRIPTION:Reminder
END:VALARM
END:VEVENT
END:VCALENDAR
