BEGIN:VCALENDAR
VERSION:2.0
METHOD:PUBLISH
CALSCALE:GREGORIAN
BEGIN:VEVENT
UID:0b49fa51-6143-4e38-b4c8-1e7176d7a582
SEQUENCE:0
CLASS:PUBLIC
PRIORITY:5
DTSTAMP:20260422T134114Z
CREATED:20260422T134114Z
DTSTART:20260416T150000Z
SUMMARY:Présentation en salon de Chantal RIBA
LOCATION:CHAMBRE FUNERAIRE DE RUOMS 17, boulevard de l'Europe-Unie, 07120, RUOMS, France
BEGIN:VALARM
TRIGGER:-PT30M
ACTION:DISPLAY
DESCRIPTION:Reminder
END:VALARM
END:VEVENT
END:VCALENDAR
