BEGIN:VCALENDAR
VERSION:2.0
METHOD:PUBLISH
CALSCALE:GREGORIAN
BEGIN:VEVENT
UID:7ca44c03-b7b5-48e1-aa10-074b4ed3969b
SEQUENCE:0
CLASS:PUBLIC
PRIORITY:5
DTSTAMP:20260422T134118Z
CREATED:20260422T134118Z
DTSTART:20260421T103000Z
SUMMARY:Recueillement au Crématorium  de Chantal RIBA
LOCATION:Crématorium de BOURG SAINT ANDEOL Cimetière Saint-Polycarpe, 07700, BOURG-SAINT-ANDEOL
BEGIN:VALARM
TRIGGER:-PT30M
ACTION:DISPLAY
DESCRIPTION:Reminder
END:VALARM
END:VEVENT
END:VCALENDAR
