BEGIN:VCALENDAR
VERSION:2.0
METHOD:PUBLISH
CALSCALE:GREGORIAN
BEGIN:VEVENT
UID:90cb2c43-d331-4acc-a2f5-cd3ed2910eb8
SEQUENCE:0
CLASS:PUBLIC
PRIORITY:5
DTSTAMP:20260422T134116Z
CREATED:20260422T134116Z
DTSTART:20260421T110000Z
SUMMARY:Crémation de Chantal RIBA
LOCATION:Crématorium de BOURG SAINT ANDEOL Cimetière Saint-Polycarpe, 07700, BOURG-SAINT-ANDEOL, France
BEGIN:VALARM
TRIGGER:-PT30M
ACTION:DISPLAY
DESCRIPTION:Reminder
END:VALARM
END:VEVENT
END:VCALENDAR
