BEGIN:VCALENDAR
VERSION:2.0
METHOD:PUBLISH
CALSCALE:GREGORIAN
BEGIN:VEVENT
UID:fcb5fe50-89ff-4000-9a24-84e0b02340ab
SEQUENCE:0
CLASS:PUBLIC
PRIORITY:5
DTSTAMP:20260422T134102Z
CREATED:20260422T134102Z
DTSTART:20260420T103000Z
SUMMARY:Cérémonie religieuse de Michel BÉCAM
LOCATION:Eglise Saint Thuriau, 29400, Landivisiau
BEGIN:VALARM
TRIGGER:-PT30M
ACTION:DISPLAY
DESCRIPTION:Reminder
END:VALARM
END:VEVENT
END:VCALENDAR
