BEGIN:VCALENDAR
VERSION:2.0
METHOD:PUBLISH
CALSCALE:GREGORIAN
BEGIN:VEVENT
UID:5f5f9908-a718-4091-b3a6-155ea20e0816
SEQUENCE:0
CLASS:PUBLIC
PRIORITY:5
DTSTAMP:20260422T134100Z
CREATED:20260422T134100Z
DTSTART:20260417T150000Z
DTEND:20260419T180000Z
SUMMARY:Visites de Michel BÉCAM
LOCATION:35 rue Marechal Joffre, 29400, Landivisiau
BEGIN:VALARM
TRIGGER:-PT30M
ACTION:DISPLAY
DESCRIPTION:Reminder
END:VALARM
END:VEVENT
END:VCALENDAR
