BEGIN:VCALENDAR
VERSION:2.0
METHOD:PUBLISH
CALSCALE:GREGORIAN
BEGIN:VEVENT
UID:90167805-f8fb-4197-8c6f-ad9fd71a56a0
SEQUENCE:0
CLASS:PUBLIC
PRIORITY:5
DTSTAMP:20260422T134103Z
CREATED:20260422T134103Z
DTSTART:20260417T143000Z
DTEND:20260420T180000Z
SUMMARY:Espace Funéraire Ménez - Visites de 14h30 à 18h de Lucienne  BALLER née PODER
LOCATION:71 rue du Dr Kergaradec, 29600, Plourin-lès-Morlaix
BEGIN:VALARM
TRIGGER:-PT30M
ACTION:DISPLAY
DESCRIPTION:Reminder
END:VALARM
END:VEVENT
END:VCALENDAR
