BEGIN:VCALENDAR
VERSION:2.0
METHOD:PUBLISH
CALSCALE:GREGORIAN
BEGIN:VEVENT
UID:69b6a891-ffc9-4a4f-930e-6601d8b737f0
SEQUENCE:0
CLASS:PUBLIC
PRIORITY:5
DTSTAMP:20260422T134105Z
CREATED:20260422T134105Z
DTSTART:20260420T143000Z
SUMMARY:Cérémonie religieuse à l'église de Penzé de Lucienne  BALLER née PODER
LOCATION:29670, Penzé
BEGIN:VALARM
TRIGGER:-PT30M
ACTION:DISPLAY
DESCRIPTION:Reminder
END:VALARM
END:VEVENT
END:VCALENDAR
