BEGIN:VCALENDAR
VERSION:2.0
METHOD:PUBLISH
CALSCALE:GREGORIAN
BEGIN:VEVENT
UID:c9125619-33ab-4043-8928-e1dfc72f3f36
SEQUENCE:0
CLASS:PUBLIC
PRIORITY:5
DTSTAMP:20260422T134103Z
CREATED:20260422T134103Z
DTSTART:20260416T173000Z
SUMMARY:Présentation en salon de Annick EVEN
LOCATION:FUNERARIUM LE BOEDEC ST NIEL Parc d'activités de la Niel, 56920, NOYAL - PONTIVY, France
BEGIN:VALARM
TRIGGER:-PT30M
ACTION:DISPLAY
DESCRIPTION:Reminder
END:VALARM
END:VEVENT
END:VCALENDAR
