BEGIN:VCALENDAR
VERSION:2.0
METHOD:PUBLISH
CALSCALE:GREGORIAN
BEGIN:VEVENT
UID:0190853d-ef0e-4d98-8e8a-43e5a8c859af
SEQUENCE:0
CLASS:PUBLIC
PRIORITY:5
DTSTAMP:20260422T134101Z
CREATED:20260422T134101Z
DTSTART:20260421T094500Z
SUMMARY:Cérémonie Civile de Annick EVEN
LOCATION:CREMATORIUM DE NOYAL PONTIVY Le Burenno, 56920, NOYAL - PONTIVY, France
BEGIN:VALARM
TRIGGER:-PT30M
ACTION:DISPLAY
DESCRIPTION:Reminder
END:VALARM
END:VEVENT
END:VCALENDAR
