BEGIN:VCALENDAR
VERSION:2.0
METHOD:PUBLISH
CALSCALE:GREGORIAN
BEGIN:VEVENT
UID:bb9fcdea-f64d-4750-ade5-df67658b3533
SEQUENCE:0
CLASS:PUBLIC
PRIORITY:5
DTSTAMP:20260422T134059Z
CREATED:20260422T134059Z
DTSTART:20260421T103000Z
SUMMARY:Crémation de Annick EVEN
LOCATION:CREMATORIUM DE NOYAL PONTIVY Le Burenno, 56920, NOYAL - PONTIVY, France
BEGIN:VALARM
TRIGGER:-PT30M
ACTION:DISPLAY
DESCRIPTION:Reminder
END:VALARM
END:VEVENT
END:VCALENDAR
