BEGIN:VCALENDAR
VERSION:2.0
METHOD:PUBLISH
CALSCALE:GREGORIAN
BEGIN:VEVENT
UID:19961594-2af8-44f5-9d24-b2ed1b92fab2
SEQUENCE:0
CLASS:PUBLIC
PRIORITY:5
DTSTAMP:20260421T165430Z
CREATED:20260421T165430Z
DTSTART:20260417T000000Z
SUMMARY:Présentation en salon de Guillaume GUILLERMIC
LOCATION:FUNERARIUM LE BOEDEC ST NIEL Parc d'activités de la Niel, 56920, NOYAL - PONTIVY, France
BEGIN:VALARM
TRIGGER:-PT30M
ACTION:DISPLAY
DESCRIPTION:Reminder
END:VALARM
END:VEVENT
END:VCALENDAR
