BEGIN:VCALENDAR
VERSION:2.0
METHOD:PUBLISH
CALSCALE:GREGORIAN
BEGIN:VEVENT
UID:d9b7143a-aeb6-4001-818e-b0e8670bc88f
SEQUENCE:0
CLASS:PUBLIC
PRIORITY:5
DTSTAMP:20260421T165428Z
CREATED:20260421T165428Z
DTSTART:20260420T114500Z
SUMMARY:Cérémonie Civile de Guillaume GUILLERMIC
LOCATION:CREMATORIUM DE NOYAL PONTIVY Le Burenno, 56920, NOYAL - PONTIVY, France
BEGIN:VALARM
TRIGGER:-PT30M
ACTION:DISPLAY
DESCRIPTION:Reminder
END:VALARM
END:VEVENT
END:VCALENDAR
