BEGIN:VCALENDAR
VERSION:2.0
METHOD:PUBLISH
CALSCALE:GREGORIAN
BEGIN:VEVENT
UID:93bb6718-cb50-465f-ad80-eb3d439ece74
SEQUENCE:0
CLASS:PUBLIC
PRIORITY:5
DTSTAMP:20260421T165428Z
CREATED:20260421T165428Z
DTSTART:20260420T123000Z
SUMMARY:Crémation de Guillaume GUILLERMIC
LOCATION:CREMATORIUM DE NOYAL PONTIVY Le Burenno, 56920, NOYAL - PONTIVY, France
BEGIN:VALARM
TRIGGER:-PT30M
ACTION:DISPLAY
DESCRIPTION:Reminder
END:VALARM
END:VEVENT
END:VCALENDAR
