BEGIN:VCALENDAR
VERSION:2.0
METHOD:PUBLISH
CALSCALE:GREGORIAN
BEGIN:VEVENT
UID:3003e78b-3dfb-47d9-9449-2eadee78084e
SEQUENCE:0
CLASS:PUBLIC
PRIORITY:5
DTSTAMP:20260421T165427Z
CREATED:20260421T165427Z
DTSTART:20260420T163000Z
SUMMARY:Inhumation de Guillaume GUILLERMIC
LOCATION:CIMETIERE DE KERFOURN Rue du Parc Yen, 56920, KERFOURN, France
BEGIN:VALARM
TRIGGER:-PT30M
ACTION:DISPLAY
DESCRIPTION:Reminder
END:VALARM
END:VEVENT
END:VCALENDAR
