BEGIN:VCALENDAR
VERSION:2.0
METHOD:PUBLISH
CALSCALE:GREGORIAN
BEGIN:VEVENT
UID:17a32424-2807-48ef-8be0-08bb02cf8697
SEQUENCE:0
CLASS:PUBLIC
PRIORITY:5
DTSTAMP:20260422T134108Z
CREATED:20260422T134108Z
DTSTART:20260423T100000Z
DTEND:20260423T110000Z
SUMMARY:CEREMONIE RELIGIEUSE de Nicole Portelli
LOCATION:ST Cléophas, 34000, MONTPELLIER
BEGIN:VALARM
TRIGGER:-PT30M
ACTION:DISPLAY
DESCRIPTION:Reminder
END:VALARM
END:VEVENT
END:VCALENDAR
