BEGIN:VCALENDAR
VERSION:2.0
METHOD:PUBLISH
CALSCALE:GREGORIAN
BEGIN:VEVENT
UID:c6c706fa-0fd6-4ddc-933a-88ba7bfcdd0a
SEQUENCE:0
CLASS:PUBLIC
PRIORITY:5
DTSTAMP:20260422T134107Z
CREATED:20260422T134107Z
DTSTART:20260423T120000Z
DTEND:20260423T150000Z
SUMMARY:CREMATION de Nicole Portelli
LOCATION:av Albert Einstein, 34000, MONTPELLIER
BEGIN:VALARM
TRIGGER:-PT30M
ACTION:DISPLAY
DESCRIPTION:Reminder
END:VALARM
END:VEVENT
END:VCALENDAR
