BEGIN:VCALENDAR
VERSION:2.0
METHOD:PUBLISH
CALSCALE:GREGORIAN
BEGIN:VEVENT
UID:0d94a90e-0710-407d-bb98-58c3eb51220e
SEQUENCE:0
CLASS:PUBLIC
PRIORITY:5
DTSTAMP:20260421T165439Z
CREATED:20260421T165439Z
DTSTART:20260419T090000Z
DTEND:20260421T193000Z
SUMMARY:Présentation en salon de Béatrice Suzanne LELOIR
LOCATION:SALON FUNERAIRE FACON 775, rue Salvador Allende, 59151, ARLEUX
BEGIN:VALARM
TRIGGER:-PT30M
ACTION:DISPLAY
DESCRIPTION:Reminder
END:VALARM
END:VEVENT
END:VCALENDAR
