BEGIN:VCALENDAR
VERSION:2.0
METHOD:PUBLISH
CALSCALE:GREGORIAN
BEGIN:VEVENT
UID:7e9afa52-e0f7-4f25-a477-92aa1b9fd306
SEQUENCE:0
CLASS:PUBLIC
PRIORITY:5
DTSTAMP:20260421T165441Z
CREATED:20260421T165441Z
DTSTART:20260422T103000Z
SUMMARY:Cérémonie Religieuse de Béatrice Suzanne LELOIR
LOCATION:EGLISE CATHOLIQUE DE LA VISITATION DE NOTRE DAME, 62860, PALLUEL, France
BEGIN:VALARM
TRIGGER:-PT30M
ACTION:DISPLAY
DESCRIPTION:Reminder
END:VALARM
END:VEVENT
END:VCALENDAR
