BEGIN:VCALENDAR
VERSION:2.0
METHOD:PUBLISH
CALSCALE:GREGORIAN
BEGIN:VEVENT
UID:b7b95c5b-72bf-4653-8f5a-e95c03a4e917
SEQUENCE:0
CLASS:PUBLIC
PRIORITY:5
DTSTAMP:20260421T165437Z
CREATED:20260421T165437Z
DTSTART:20260422T120000Z
SUMMARY:Crémation de Béatrice Suzanne LELOIR
LOCATION:CRÉMATORIUM DE BEAURAINS 3 rue Arthur Rimbaud, 62217, BEAURAINS, France
BEGIN:VALARM
TRIGGER:-PT30M
ACTION:DISPLAY
DESCRIPTION:Reminder
END:VALARM
END:VEVENT
END:VCALENDAR
