BEGIN:VCALENDAR
VERSION:2.0
METHOD:PUBLISH
CALSCALE:GREGORIAN
BEGIN:VEVENT
UID:109d5ff8-22db-4c95-8bb4-3440c5a2f2f9
SEQUENCE:0
CLASS:PUBLIC
PRIORITY:5
DTSTAMP:20260421T165440Z
CREATED:20260421T165440Z
DTSTART:20260422T170000Z
SUMMARY:Inhumation de Béatrice Suzanne LELOIR
LOCATION:CIMETIERE DE OISY LE VERGER, 62860, OISY-LE-VERGER, France
BEGIN:VALARM
TRIGGER:-PT30M
ACTION:DISPLAY
DESCRIPTION:Reminder
END:VALARM
END:VEVENT
END:VCALENDAR
