BEGIN:VCALENDAR
VERSION:2.0
METHOD:PUBLISH
CALSCALE:GREGORIAN
BEGIN:VEVENT
UID:0e37890e-df2a-4345-ac18-a576bf394985
SEQUENCE:0
CLASS:PUBLIC
PRIORITY:5
DTSTAMP:20260422T134110Z
CREATED:20260422T134110Z
DTSTART:20260420T150000Z
SUMMARY:Cérémonie Religieuse de Philippe MARLIER
LOCATION:EGLISE D'ESTOURMEL, 59400, ESTOURMEL, France
BEGIN:VALARM
TRIGGER:-PT30M
ACTION:DISPLAY
DESCRIPTION:Reminder
END:VALARM
END:VEVENT
END:VCALENDAR
