BEGIN:VCALENDAR
VERSION:2.0
METHOD:PUBLISH
CALSCALE:GREGORIAN
BEGIN:VEVENT
UID:33668dce-802e-4074-b280-17c011716136
SEQUENCE:0
CLASS:PUBLIC
PRIORITY:5
DTSTAMP:20260422T134109Z
CREATED:20260422T134109Z
DTSTART:20260420T160000Z
SUMMARY:Inhumation de Philippe MARLIER
LOCATION:CIMETIÈRE D'ESTOURMEL, 59400, ESTOURMEL, France
BEGIN:VALARM
TRIGGER:-PT30M
ACTION:DISPLAY
DESCRIPTION:Reminder
END:VALARM
END:VEVENT
END:VCALENDAR
