BEGIN:VCALENDAR
VERSION:2.0
METHOD:PUBLISH
CALSCALE:GREGORIAN
BEGIN:VEVENT
UID:56cb3939-58fb-414e-aa6b-7769a0917b70
SEQUENCE:0
CLASS:PUBLIC
PRIORITY:5
DTSTAMP:20260422T134106Z
CREATED:20260422T134106Z
DTSTART:20260421T140000Z
SUMMARY:Cérémonie Religieuse de Gisèle MENET
LOCATION:Eglise de Buionfosse, 02620, BUIRONFOSSE
BEGIN:VALARM
TRIGGER:-PT30M
ACTION:DISPLAY
DESCRIPTION:Reminder
END:VALARM
END:VEVENT
END:VCALENDAR
