BEGIN:VCALENDAR
VERSION:2.0
METHOD:PUBLISH
CALSCALE:GREGORIAN
BEGIN:VEVENT
UID:7775a3a4-6555-40ee-bcb8-f699f25dae1b
SEQUENCE:0
CLASS:PUBLIC
PRIORITY:5
DTSTAMP:20260422T134100Z
CREATED:20260422T134100Z
DTSTART:20260421T150000Z
SUMMARY:Inhumation de Gisèle MENET
LOCATION:Cimetière de Buironfosse, 02620, BUIRONFOSSE
BEGIN:VALARM
TRIGGER:-PT30M
ACTION:DISPLAY
DESCRIPTION:Reminder
END:VALARM
END:VEVENT
END:VCALENDAR
